BEGIN:VCALENDAR
VERSION:2.0
PRODID:-//Həlimə Qəmərlinskaya - ECPv4.9.4//NONSGML v1.0//EN
CALSCALE:GREGORIAN
METHOD:PUBLISH
X-WR-CALNAME:Həlimə Qəmərlinskaya
X-ORIGINAL-URL:https://az.hgacademy.online
X-WR-CALDESC:Üçün tədbirlər Həlimə Qəmərlinskaya
BEGIN:VTIMEZONE
TZID:"Europe/Moscow"
BEGIN:STANDARD
TZOFFSETFROM:+0300
TZOFFSETTO:+0300
TZNAME:MSK
DTSTART:20210101T000000
END:STANDARD
END:VTIMEZONE
BEGIN:VEVENT
DTSTART;TZID="Europe/Moscow":20210706T170000
DTEND;TZID="Europe/Moscow":20210706T180000
DTSTAMP:20260422T161051
CREATED:20210706T104318Z
LAST-MODIFIED:20210706T104318Z
UID:5374-1625590800-1625594400@az.hgacademy.online
SUMMARY:Yayım Vətən TV
DESCRIPTION:Gündəmin aktual mövzularından birini müzakirə edəcəyik. Qazilər niyə intihar edir? \n\n
URL:https://az.hgacademy.online/event/yayim-v-t-n-tv/
ATTACH;FMTTYPE=image/jpeg:https://az.hgacademy.online/wp-content/uploads/2021/07/2021_07_06_vtv_900_500.jpg
END:VEVENT
END:VCALENDAR