BEGIN:VCALENDAR
VERSION:2.0
PRODID:-//Həlimə Qəmərlinskaya - ECPv4.9.4//NONSGML v1.0//EN
CALSCALE:GREGORIAN
METHOD:PUBLISH
X-WR-CALNAME:Həlimə Qəmərlinskaya
X-ORIGINAL-URL:https://az.hgacademy.online
X-WR-CALDESC:Üçün tədbirlər Həlimə Qəmərlinskaya
BEGIN:VTIMEZONE
TZID:"Europe/Moscow"
BEGIN:STANDARD
TZOFFSETFROM:+0300
TZOFFSETTO:+0300
TZNAME:MSK
DTSTART:20200101T000000
END:STANDARD
END:VTIMEZONE
BEGIN:VEVENT
DTSTART;TZID="Europe/Moscow":20200325T120000
DTEND;TZID="Europe/Moscow":20200325T140000
DTSTAMP:20260422T224549
CREATED:20200324T192850Z
LAST-MODIFIED:20200325T133332Z
UID:4376-1585137600-1585144800@az.hgacademy.online
SUMMARY:Xəzər TV-də canlı yayında olan verilişdə çıxış edəcəm. Mövzu: “Ruh yüksəltmənin yolları”.
DESCRIPTION:25 Mart\, saat 12:00\, Xəzər TV-də canlı yayında olan verilişdə çıxış edəcəm. Mövzu: “Ruh yüksəltmənin yolları”. \n.fusion-gallery-1 .fusion-gallery-image {border:0px solid #f6f6f6;}\n
URL:https://az.hgacademy.online/event/x-z-r-tv-d-canli-yayinda-olan-verilisd-cixis-ed-c-m-movzu-ruh-yuks-ltm-nin-yollari/
ATTACH;FMTTYPE=image/jpeg:https://az.hgacademy.online/wp-content/uploads/2020/03/2020_03_25_xezer-tv.jpg
END:VEVENT
END:VCALENDAR