BEGIN:VCALENDAR
VERSION:2.0
PRODID:-//Həlimə Qəmərlinskaya - ECPv4.9.4//NONSGML v1.0//EN
CALSCALE:GREGORIAN
METHOD:PUBLISH
X-WR-CALNAME:Həlimə Qəmərlinskaya
X-ORIGINAL-URL:https://az.hgacademy.online
X-WR-CALDESC:Üçün tədbirlər Həlimə Qəmərlinskaya
BEGIN:VTIMEZONE
TZID:"Europe/Moscow"
BEGIN:STANDARD
TZOFFSETFROM:+0300
TZOFFSETTO:+0300
TZNAME:MSK
DTSTART:20200101T000000
END:STANDARD
END:VTIMEZONE
BEGIN:VEVENT
DTSTART;VALUE=DATE:20200613
DTEND;VALUE=DATE:20200614
DTSTAMP:20260422T191703
CREATED:20200531T210127Z
LAST-MODIFIED:20200531T210127Z
UID:4890-1592006400-1592092799@az.hgacademy.online
SUMMARY:Webinar for women
DESCRIPTION:\n
URL:https://az.hgacademy.online/event/webinar-for-women/
ATTACH;FMTTYPE=image/jpeg:https://az.hgacademy.online/wp-content/uploads/2020/05/2020_06_13_webinar_who_am_i_900_500.jpg
END:VEVENT
END:VCALENDAR