BEGIN:VCALENDAR
VERSION:2.0
PRODID:-//Həlimə Qəmərlinskaya - ECPv4.9.4//NONSGML v1.0//EN
CALSCALE:GREGORIAN
METHOD:PUBLISH
X-WR-CALNAME:Həlimə Qəmərlinskaya
X-ORIGINAL-URL:https://az.hgacademy.online
X-WR-CALDESC:Üçün tədbirlər Həlimə Qəmərlinskaya
BEGIN:VTIMEZONE
TZID:"Europe/Moscow"
BEGIN:STANDARD
TZOFFSETFROM:+0300
TZOFFSETTO:+0300
TZNAME:MSK
DTSTART:20210101T000000
END:STANDARD
END:VTIMEZONE
BEGIN:VEVENT
DTSTART;TZID="Europe/Moscow":20210310T100000
DTEND;TZID="Europe/Moscow":20210310T120000
DTSTAMP:20260422T155504
CREATED:20210308T050809Z
LAST-MODIFIED:20210310T051638Z
UID:5150-1615370400-1615377600@az.hgacademy.online
SUMMARY:Vebinar
DESCRIPTION:\nƏziz xanımlar\, biz böyük işlər görürük. Şirkətlər qururuq\, onları idarə edirik\, ailə qururuq və onu idarə edirik. Bir cəmiyyət qururuq\, idarə edirik. \nBunun üçün enerji lazımdır. Enerjini necə əldə etmək olar\, və tükəndiyi təqdirdə nə etmək lazımdır?\n\nBu mövzu ətrafında \nKontakt Home\nKontakt Home və \nWoWoman Azerbaijan\n-ın dəstəyi ilə 10 mart saat 20: 00-da keçiriləcək vebinarda sizinlə müzakirələr aparacayıq. \n\nLinki mütləq paylaşacam.\n\n\n#doctorhalima #webinar #wowomen #energy #business #coach #development\n\n\n
URL:https://az.hgacademy.online/event/vebinar/
ATTACH;FMTTYPE=image/jpeg:https://az.hgacademy.online/wp-content/uploads/2021/03/2021_03_10_webinar_900_500.jpg
END:VEVENT
END:VCALENDAR