BEGIN:VCALENDAR
VERSION:2.0
PRODID:-//Həlimə Qəmərlinskaya - ECPv4.9.4//NONSGML v1.0//EN
CALSCALE:GREGORIAN
METHOD:PUBLISH
X-WR-CALNAME:Həlimə Qəmərlinskaya
X-ORIGINAL-URL:https://az.hgacademy.online
X-WR-CALDESC:Üçün tədbirlər Həlimə Qəmərlinskaya
BEGIN:VTIMEZONE
TZID:"Europe/Moscow"
BEGIN:STANDARD
TZOFFSETFROM:+0300
TZOFFSETTO:+0300
TZNAME:MSK
DTSTART:20210101T000000
END:STANDARD
END:VTIMEZONE
BEGIN:VEVENT
DTSTART;TZID="Europe/Moscow":20210111T190000
DTEND;TZID="Europe/Moscow":20210111T213000
DTSTAMP:20260422T175227
CREATED:20210105T220954Z
LAST-MODIFIED:20210110T090008Z
UID:5056-1610391600-1610400600@az.hgacademy.online
SUMMARY:Vebinar "COVID-19: psixi pozuntular"
DESCRIPTION:\n	\n		\n	\n	\n	\n	\n	covid19_psixi_pozuntular	\n	\n	{"type":"video"\,"tracklist":true\,"tracknumbers":true\,"images":true\,"artists":true\,"tracks":[{"src":"https:\/\/az.hgacademy.online\/wp-content\/uploads\/2021\/01\/covid19_psixi_pozuntular.mp4"\,"type":"video\/mp4"\,"title":"covid19_psixi_pozuntular"\,"caption":""\,"description":""\,"meta":{"length_formatted":"0:23"}\,"dimensions":{"original":{"width":1280\,"height":720}\,"resized":{"width":1148\,"height":646}}\,"image":{"src":"https:\/\/az.hgacademy.online\/wp-includes\/images\/media\/video.png"\,"width":48\,"height":64}\,"thumb":{"src":"https:\/\/az.hgacademy.online\/wp-includes\/images\/media\/video.png"\,"width":48\,"height":64}}]}\n\n	\n\n
URL:https://az.hgacademy.online/event/vebinar-covid-19-psixi-pozuntular/
ATTACH;FMTTYPE=image/png:https://az.hgacademy.online/wp-content/uploads/2021/01/2021_01_05_vebinar_anons.png
END:VEVENT
END:VCALENDAR