BEGIN:VCALENDAR
VERSION:2.0
PRODID:-//Həlimə Qəmərlinskaya - ECPv4.9.4//NONSGML v1.0//EN
CALSCALE:GREGORIAN
METHOD:PUBLISH
X-WR-CALNAME:Həlimə Qəmərlinskaya
X-ORIGINAL-URL:https://az.hgacademy.online
X-WR-CALDESC:Üçün tədbirlər Həlimə Qəmərlinskaya
BEGIN:VTIMEZONE
TZID:"Europe/Moscow"
BEGIN:STANDARD
TZOFFSETFROM:+0300
TZOFFSETTO:+0300
TZNAME:MSK
DTSTART:20210101T000000
END:STANDARD
END:VTIMEZONE
BEGIN:VEVENT
DTSTART;TZID="Europe/Moscow":20210413T160000
DTEND;TZID="Europe/Moscow":20210413T170000
DTSTAMP:20260422T162204
CREATED:20210412T101633Z
LAST-MODIFIED:20210414T101810Z
UID:5218-1618329600-1618333200@az.hgacademy.online
SUMMARY:Vətən TV: Depressiyadan qorunmağın qızıl qaydaları
DESCRIPTION:Depressiyadan qorunmağın qızıl qaydaları-psixoterapevt\, biznes konsultant Həlimə Qəmərlinskaya AÇIQLAYIR\nStress\, panik atak və depressiyadan əziyyət çəkirsinizsə\, söhbətimizi qaçırmayın.\n“Aktual həyat” verilişində psixoterapevt\, biznes konsultant Həlimə Qəmərlinskaya ilə depressiyanı yaradan səbəblər və çıxış yolları barədə söhbət apardıq. \n#doctorhalima #vetentv #depressionhelp #depression #psychiatry #mentalhealthawareness #mentalhealth #coach \n\n
URL:https://az.hgacademy.online/event/v-t-n-tv-depressiyadan-qorunmagin-qizil-qaydalari/
ATTACH;FMTTYPE=image/jpeg:https://az.hgacademy.online/wp-content/uploads/2021/04/2021_04_13_vetentv_002_event.jpg
END:VEVENT
END:VCALENDAR