BEGIN:VCALENDAR
VERSION:2.0
PRODID:-//Həlimə Qəmərlinskaya - ECPv4.9.4//NONSGML v1.0//EN
CALSCALE:GREGORIAN
METHOD:PUBLISH
X-WR-CALNAME:Həlimə Qəmərlinskaya
X-ORIGINAL-URL:https://az.hgacademy.online
X-WR-CALDESC:Üçün tədbirlər Həlimə Qəmərlinskaya
BEGIN:VTIMEZONE
TZID:"Europe/Moscow"
BEGIN:STANDARD
TZOFFSETFROM:+0300
TZOFFSETTO:+0300
TZNAME:MSK
DTSTART:20190101T000000
END:STANDARD
END:VTIMEZONE
BEGIN:VEVENT
DTSTART;VALUE=DATE:20190917
DTEND;VALUE=DATE:20190918
DTSTAMP:20260422T224802
CREATED:20190905T194607Z
LAST-MODIFIED:20190917T125829Z
UID:3543-1568678400-1568764799@az.hgacademy.online
SUMMARY:Sabah futbol klubunun məşqçiləri və aparıcı oyunçuları üçün «Motivasiya» təlimi
DESCRIPTION:İdman psixoloqları və təcrübəli məşqçilər hesab edirlər ki\, idmançının ehtiyac-həvəsləndirici sahəsinin xüsusiyyətlərini bilmədən onu yarışa “gətirmək”\, müvəffəqiyyət qazanmaq üçün sabit\, effektiv motivasiya yaratmaq çətindir. İdmançılarının fərdi motivləri haqqında məlumatla silahlanmış məşqçi\, idman nəticələrinin incə yaradıcısı və əsl qurucusu kimi çıxış edir. \nMotivasiya haqqında danışarkən\, bunun idmançıların şəxsiyyət xüsusiyyətlərinin təzahürlərindən biri olduğunu da vurğulamaq lazımdır.\nBu gün “motivasiya”nın\, xüsusilə də idman motivasiyasının nə olduğu barədə danışdım\, idmançıların motivasiya ehtiyaclarını və əsas dəyərlərini müəyyənləşdirmək üçün testlər apardım.\nFutbolçular öz işlərinin və komandasının motivasiyası ilə şəxsi iş ssenarilərini bölüşdülər. \n\n					\n						.fusion-gallery-1 .fusion-gallery-image {border:0px solid #f6f6f6;}\n\n					\n				\n
URL:https://az.hgacademy.online/event/trening-motivacija-dlja-trenerskogo-sostava-i-vedushhih-igrokov-futbolnogo-kluba-sabah/
ATTACH;FMTTYPE=image/jpeg:https://az.hgacademy.online/wp-content/uploads/2019/09/2019_09_17_motivation_for_fc_sabah_001_tmb.jpg
END:VEVENT
END:VCALENDAR