BEGIN:VCALENDAR
VERSION:2.0
PRODID:-//Həlimə Qəmərlinskaya - ECPv4.9.4//NONSGML v1.0//EN
CALSCALE:GREGORIAN
METHOD:PUBLISH
X-WR-CALNAME:Həlimə Qəmərlinskaya
X-ORIGINAL-URL:https://az.hgacademy.online
X-WR-CALDESC:Üçün tədbirlər Həlimə Qəmərlinskaya
BEGIN:VTIMEZONE
TZID:"Europe/Moscow"
BEGIN:STANDARD
TZOFFSETFROM:+0300
TZOFFSETTO:+0300
TZNAME:MSK
DTSTART:20190101T000000
END:STANDARD
END:VTIMEZONE
BEGIN:VEVENT
DTSTART;VALUE=DATE:20190916
DTEND;VALUE=DATE:20190917
DTSTAMP:20260422T224125
CREATED:20190905T194339Z
LAST-MODIFIED:20190917T072916Z
UID:3541-1568592000-1568678399@az.hgacademy.online
SUMMARY:"Sabah" futbol klubunun məşqçi heyəti və aparıcı oyunçular üçün "Emosional Zəka" təlimi
DESCRIPTION:“Sabah” futbol klubun məşqçi heyəti və aparıcı oyunçuları üçün “Emosional zəka” təlimi keçirdim. \nTəlimin aktuallığı bu gün emosional zəkanın xüsusi diqqətə layiq olan populyar psixoloji konsepsiya kimi tanınmasıdır. Emosional zəkanın inkişafı idmançıların psixoloji hazırlıq səviyyəsinin artmasına\, rəqabət şəraitinə uğurlu uyğunlaşmasına müsbət təsir göstərir.\nRəqabətqabiliyyətli fəaliyyət futbolçulardan yüksək səviyyədə motivasiya\, texniki və taktiki hazırlığa və emosional vəziyyətini tənzimləmək bacarığına ehtiyac duyur. Futbol kimi idman növlərində oyunçuların dəyişən şərtlərə\, rəqibin taktiki yeniliklərinə\, oyun zamanı taktikanı dəyişdirməyə tez reaksiya vermə qabiliyyəti böyük əhəmiyyət daşıyır. Bunun üçün idmançı\, öz emosional zəkasının səviyyəsini səciyyələndirən emosional vəziyyətini anlaya və idarə edə bilməlidir. \n\n					\n						.fusion-gallery-1 .fusion-gallery-image {border:0px solid #f6f6f6;}\n\n					\n				\n
URL:https://az.hgacademy.online/event/trening-jemocionalnyj-intellekt/
ATTACH;FMTTYPE=image/jpeg:https://az.hgacademy.online/wp-content/uploads/2019/09/2019_09_16_eq_for_fc_sabah_011_tmb.jpg
END:VEVENT
END:VCALENDAR