BEGIN:VCALENDAR
VERSION:2.0
PRODID:-//Həlimə Qəmərlinskaya - ECPv4.9.4//NONSGML v1.0//EN
CALSCALE:GREGORIAN
METHOD:PUBLISH
X-WR-CALNAME:Həlimə Qəmərlinskaya
X-ORIGINAL-URL:https://az.hgacademy.online
X-WR-CALDESC:Üçün tədbirlər Həlimə Qəmərlinskaya
BEGIN:VTIMEZONE
TZID:"Europe/Moscow"
BEGIN:STANDARD
TZOFFSETFROM:+0300
TZOFFSETTO:+0300
TZNAME:MSK
DTSTART:20210101T000000
END:STANDARD
END:VTIMEZONE
BEGIN:VEVENT
DTSTART;TZID="Europe/Moscow":20210327T100000
DTEND;TZID="Europe/Moscow":20210327T110000
DTSTAMP:20260422T162118
CREATED:20210326T143217Z
LAST-MODIFIED:20210328T144515Z
UID:5175-1616839200-1616842800@az.hgacademy.online
SUMMARY:Tibbi reabilitasiya: elmi baxışlar və müasir yanaşmalar
DESCRIPTION:Hörmətli həmkarlar! \nSizi Elmi-Tədqiqat Tibbi Bərpa İnstitutu və Azərbaycan Tibb Universitetinin və İctimai Səhiyyə və İslahatlar Mərkəzinin birgə təşkilatçılığı ilə “Tibbi reabilitasiya: elmi baxışlar və müasir yanaşmalar” adlı elmi-praktik konfransa dəvət edirik. \nhttps://hs-i.org/en/tedbir/medical-rehabilitation-scientific-views-and-modern-approaches/ \nHealth and Science Initiatives LLC\n#doctorhalima #covid19 #psychiatry #conference \n\n.fusion-gallery-1 .fusion-gallery-image {border:0px solid #f6f6f6;}\n  \n
URL:https://az.hgacademy.online/event/tibbi-reabilitasiya-elmi-baxislar-v-muasir-yanasmalar/
ATTACH;FMTTYPE=image/jpeg:https://az.hgacademy.online/wp-content/uploads/2021/03/2021_03_27_conference_900_500.jpg
END:VEVENT
END:VCALENDAR