BEGIN:VCALENDAR
VERSION:2.0
PRODID:-//Həlimə Qəmərlinskaya - ECPv4.9.4//NONSGML v1.0//EN
CALSCALE:GREGORIAN
METHOD:PUBLISH
X-WR-CALNAME:Həlimə Qəmərlinskaya
X-ORIGINAL-URL:https://az.hgacademy.online
X-WR-CALDESC:Üçün tədbirlər Həlimə Qəmərlinskaya
BEGIN:VTIMEZONE
TZID:"Europe/Moscow"
BEGIN:STANDARD
TZOFFSETFROM:+0300
TZOFFSETTO:+0300
TZNAME:MSK
DTSTART:20200101T000000
END:STANDARD
END:VTIMEZONE
BEGIN:VEVENT
DTSTART;VALUE=DATE:20200426
DTEND;VALUE=DATE:20200427
DTSTAMP:20260422T193833
CREATED:20200424T131054Z
LAST-MODIFIED:20200427T232718Z
UID:4662-1587859200-1587945599@az.hgacademy.online
SUMMARY:"Stress vəziyyətlərinin idarə edilməsi" vebinari
DESCRIPTION:26 aprel 2020-ci il tarixində Azərbaycan Respublikası Gənclər və İdman Nazirliyi(Azərbaycan Respublikası Gənclər və İdman Nazirliyi)\, YUNİSEF Azərbaycan(YUNİSEF Azərbaycan) və Avropa İttifaqının maliyyə dəstəyi ilə Azərbaycan Respublikası Gənclər Təşkilatları Milli Şurası(Azərbaycan Respublikası Gənclər Təşkilatları Milli Şurası) (Avropa İttifaqının nümayəndə heyəti) Qazax(Qazax Rayon İcra Hakimiyyəti) və Bakının Xəzər(Xəzər rayon icra orqanı)rayonlarının üzvləri üçün onlayn platformada təlim keçəcəklər. Təlim psixiatr\, biznes məsləhətçisi\, məşqçi Halima Kamarlinskaya (Halima Kamarlinskaya) həkimin təqdimatında” stress vəziyyətlərinin idarə edilməsi ” mövzusunda keçiriləcək. \nTəlimdə hər bir rayondan 20 nəfər və ümumilikdə 100 nəfər iştirak edəcək. \n\n\n					\n						https://www.facebook.com/halima.gamarlinskaya/videos/10216497943953765/ \n\n\n					\n				\n					\n						https://www.facebook.com/halima.gamarlinskaya/videos/10216497944233772/ \n\n\n					\n				\n					\n						https://www.facebook.com/halima.gamarlinskaya/videos/10216497944073768/ \n\n\n					\n				\n					\n						\n\n					\n				 \n.fusion-gallery-1 .fusion-gallery-image {border:0px solid #f6f6f6;}\n
URL:https://az.hgacademy.online/event/stress-v-ziyy-tl-rinin-idar-edilm-si-vebinari/
ATTACH;FMTTYPE=image/jpeg:https://az.hgacademy.online/wp-content/uploads/2020/04/2020_04_24_stressmanagment_webinar_900_500.jpg
END:VEVENT
END:VCALENDAR