BEGIN:VCALENDAR
VERSION:2.0
PRODID:-//Həlimə Qəmərlinskaya - ECPv4.9.4//NONSGML v1.0//EN
CALSCALE:GREGORIAN
METHOD:PUBLISH
X-WR-CALNAME:Həlimə Qəmərlinskaya
X-ORIGINAL-URL:https://az.hgacademy.online
X-WR-CALDESC:Üçün tədbirlər Həlimə Qəmərlinskaya
BEGIN:VTIMEZONE
TZID:"Europe/Moscow"
BEGIN:STANDARD
TZOFFSETFROM:+0300
TZOFFSETTO:+0300
TZNAME:MSK
DTSTART:20210101T000000
END:STANDARD
END:VTIMEZONE
BEGIN:VEVENT
DTSTART;TZID="Europe/Moscow":20210511T083000
DTEND;TZID="Europe/Moscow":20210511T093000
DTSTAMP:20260422T173156
CREATED:20210510T155527Z
LAST-MODIFIED:20210510T155538Z
UID:5306-1620721800-1620725400@az.hgacademy.online
SUMMARY:Space TV: “Hər səhər”
DESCRIPTION:Sabah 08:55-9:20 Space tv.\n“Hər səhər” verlişində işçi və rəhbər münasibətləri\, iş stresləri haqqında sabah danışacağıq.\n#doctorhalima #spacetv #antistress #coach #mentalhealth\nSpace TV \n \n
URL:https://az.hgacademy.online/event/space-tv-h-r-s-h-r/
ATTACH;FMTTYPE=image/jpeg:https://az.hgacademy.online/wp-content/uploads/2021/05/2021_05_11_space_tv_900_500.jpg
END:VEVENT
END:VCALENDAR