BEGIN:VCALENDAR
VERSION:2.0
PRODID:-//Həlimə Qəmərlinskaya - ECPv4.9.4//NONSGML v1.0//EN
CALSCALE:GREGORIAN
METHOD:PUBLISH
X-WR-CALNAME:Həlimə Qəmərlinskaya
X-ORIGINAL-URL:https://az.hgacademy.online
X-WR-CALDESC:Üçün tədbirlər Həlimə Qəmərlinskaya
BEGIN:VTIMEZONE
TZID:"Europe/Moscow"
BEGIN:STANDARD
TZOFFSETFROM:+0300
TZOFFSETTO:+0300
TZNAME:MSK
DTSTART:20190101T000000
END:STANDARD
END:VTIMEZONE
BEGIN:VEVENT
DTSTART;TZID="Europe/Moscow":20191113T110000
DTEND;TZID="Europe/Moscow":20191113T150000
DTSTAMP:20260422T224503
CREATED:20191112T153232Z
LAST-MODIFIED:20191112T153232Z
UID:4065-1573642800-1573657200@az.hgacademy.online
SUMMARY:Sabah saat 11:15də APA TV-də Irada İsak ilə maraqlı və faydalı efirimiz olacaq.
DESCRIPTION:Bu dəvəti böyük məmnuniyyətlə qəbul etdim və İradə xanımın maraqlı suallarına cavab verərkən professional inkişaf yolumu gözdən keçirdim.\nEfirdə sıfırdan biznes quraraq uğur əldə etməklə bağlı təcrübələrimi bölüşdüm.\nİnanıram ki\, hər birinizə faydalı olacaq  \n
URL:https://az.hgacademy.online/event/sabah-saat-11-15d-apa-tv-d-irada-isak-il-maraqli-v-faydali-efirimiz-olacaq/
ATTACH;FMTTYPE=image/jpeg:https://az.hgacademy.online/wp-content/uploads/2019/11/2019_10_01_apa_tv_008_900_500.jpg
END:VEVENT
END:VCALENDAR