BEGIN:VCALENDAR
VERSION:2.0
PRODID:-//Həlimə Qəmərlinskaya - ECPv4.9.4//NONSGML v1.0//EN
CALSCALE:GREGORIAN
METHOD:PUBLISH
X-WR-CALNAME:Həlimə Qəmərlinskaya
X-ORIGINAL-URL:https://az.hgacademy.online
X-WR-CALDESC:Üçün tədbirlər Həlimə Qəmərlinskaya
BEGIN:VTIMEZONE
TZID:"Europe/Moscow"
BEGIN:STANDARD
TZOFFSETFROM:+0300
TZOFFSETTO:+0300
TZNAME:MSK
DTSTART:20220101T000000
END:STANDARD
END:VTIMEZONE
BEGIN:VEVENT
DTSTART;TZID="Europe/Moscow":20220913T190000
DTEND;TZID="Europe/Moscow":20220913T220000
DTSTAMP:20260422T113916
CREATED:20220816T204324Z
LAST-MODIFIED:20220816T204324Z
UID:5805-1663095600-1663106400@az.hgacademy.online
SUMMARY:Qadının gücü və davamlı həyat tərzinə keçid
DESCRIPTION:Xanımlar\, tələsin.\n✅️Maraqlı bir tədbir olacaq.\n🔜Mən gözləyəcəm sizləri.\n✅️Dəyərli xanımlarımız\, Sentyabrın ayının 13-də @loccitaneaze ilə birlikdə keçirəcəyimiz ‼️“Qadının gücü və davamlı həyat tərzinə keçid” mövzusunda möhtəşəm tədbiri sizə bildirməkdən hədsiz məmnunuq!\nTədbir: Qadının gücü və davamlı həyat tərzinə keçid\n🔜Tarix: 13 September 2022\nSaat: 19:00 – 22:00\n✔️Məkan: Excelsior Hotels & Spa Baku Afurja Zalı\nTədbirdə öz bilik və təcrübələrini sizinlə bölüşərək\, sizi ilhamlandıracaq və daha yaxşı və sağlam həyat tərzinə keçid etmək üçün məsləhətlərini bölüşəcək 6 peşəkar spikerimiz olacaq:\n1. Elnarə Şıxlinskaya – Peşəkar kosmetoloq – dəriyə düzgün qulluq qaydaları və L’Occitane məhsulları haqda ətraflı məlumat. (S&C üçün vaxt)\n2. Zülfiyyə Əıiyeva – Sahibkar. Sahibkar “uğurlu” qadının çıxışı. Öz uğur hekayəsi\, biznesdə qarşılaşdığı çətinliklər və onlarla necə başa çıxması haqda sizinlə bölüşəcək. Digər qadınları öz bizneslərini başlatmaq üçün ruhlandırmaq. (S&C üçün vaxt)\n3. Səma Abiyeva – Davamlı həyat tərzi və tullantıların azaldılması – sustainabiliti nədir / kosmetik və baxım məhsullarının tullantısını necə azaltmaq olar. Plastikə alternativlər. Sürətli modanın təzadları. (S&C üçün vaxt)\n4. Gülya Əliyeva – Fitnes və qidalanma kouçu. Sağlamlıq və rifah. Düzgün qida və həyat tərzinin önəmi. Necə fit qalmalı və qidanlanma ilə bağlı bəzi miflər. (S&C üçün vaxt)\n😊5. Həlimə Qəmərlinskaya – Həkim psixiatr və biznes məsləhətçisi- Özünü sevmək və qəbul etmək. Özünüzlə necə xoşbəxt olmalı və öz güvəni necə qorumalı və artırmalı. (S&C üçün vaxt)\n6. Könül Hüseynova – Peşəkar yoqa təlimçisi. Düzgün nəfəs almanın və yoqanın vacibliyi. Nəfəs texnikaları.\nTədbirə bilətlər 60 AZN dəyərindədir və əvvəldən əldə olunmalıdır. Yerlər məhduddur və tədbir zamanı bilet əldə etmək mümkün deyil.\n👆Əlavə məlumat üçün @womenpower.az və ya +994 55 551 76 23\n👍Biletləri əldə etmək üçün whatsapp əlaqə nömrəsi: +994 50 706 66 93\n🔝Bü möhtəşəm tədbirdə sizləri görməkdən şad olarıq!\nL’OCCITANE en Provence L’OCCITANE en ProvenceL’OCCITANE en ProvenceL’OCCITANE en Provence \n\n
URL:https://az.hgacademy.online/event/qadinin-gucu-v-davamli-h-yat-t-rzin-kecid/
ATTACH;FMTTYPE=image/jpeg:https://az.hgacademy.online/wp-content/uploads/2022/08/2022_09_13_seminar_900_500.jpg
END:VEVENT
END:VCALENDAR