BEGIN:VCALENDAR
VERSION:2.0
PRODID:-//Həlimə Qəmərlinskaya - ECPv4.9.4//NONSGML v1.0//EN
CALSCALE:GREGORIAN
METHOD:PUBLISH
X-WR-CALNAME:Həlimə Qəmərlinskaya
X-ORIGINAL-URL:https://az.hgacademy.online
X-WR-CALDESC:Üçün tədbirlər Həlimə Qəmərlinskaya
BEGIN:VTIMEZONE
TZID:"Europe/Moscow"
BEGIN:STANDARD
TZOFFSETFROM:+0300
TZOFFSETTO:+0300
TZNAME:MSK
DTSTART:20210101T000000
END:STANDARD
END:VTIMEZONE
BEGIN:VEVENT
DTSTART;TZID="Europe/Moscow":20211009T150000
DTEND;TZID="Europe/Moscow":20211009T170000
DTSTAMP:20260422T143841
CREATED:20211008T212333Z
LAST-MODIFIED:20211008T212333Z
UID:5445-1633791600-1633798800@az.hgacademy.online
SUMMARY:”Psixi sağlamlığın əsasları”
DESCRIPTION:Psixi Sağlamlıq gününə həsr olunmuş vebinar. Mövzu:”Psixi sağlamlığın əsasları”.\n \n
URL:https://az.hgacademy.online/event/psixi-saglamligin-saslari/
ATTACH;FMTTYPE=image/jpeg:https://az.hgacademy.online/wp-content/uploads/2021/10/2021_10_09_webinar_900_500.jpg
END:VEVENT
END:VCALENDAR