BEGIN:VCALENDAR
VERSION:2.0
PRODID:-//Həlimə Qəmərlinskaya - ECPv4.9.4//NONSGML v1.0//EN
CALSCALE:GREGORIAN
METHOD:PUBLISH
X-WR-CALNAME:Həlimə Qəmərlinskaya
X-ORIGINAL-URL:https://az.hgacademy.online
X-WR-CALDESC:Üçün tədbirlər Həlimə Qəmərlinskaya
BEGIN:VTIMEZONE
TZID:"Europe/Moscow"
BEGIN:STANDARD
TZOFFSETFROM:+0300
TZOFFSETTO:+0300
TZNAME:MSK
DTSTART:20210101T000000
END:STANDARD
END:VTIMEZONE
BEGIN:VEVENT
DTSTART;TZID="Europe/Moscow":20210325T200000
DTEND;TZID="Europe/Moscow":20210325T220000
DTSTAMP:20260422T175314
CREATED:20210324T134559Z
LAST-MODIFIED:20210325T134937Z
UID:5171-1616702400-1616709600@az.hgacademy.online
SUMMARY:Pozitiv düşünmək sənəti (ClubHouse)
DESCRIPTION:Dostlar\, təşkilatçılarımızdan və sponsorumuzdan növbəti maraqlı mövzü.\nQoşulun bizə! Kontakt Home WoWoman Azerbaijan\nhttps://www.joinclubhouse.com/event/mJXgaGBV\n#doctorhalima #coach #positivethinking #clubhouse #wowomen #kontakthome \n\n
URL:https://az.hgacademy.online/event/pozitiv-dusunm-k-s-n-ti-clubhouse/
ATTACH;FMTTYPE=image/jpeg:https://az.hgacademy.online/wp-content/uploads/2021/03/2021_03_25_vebinar_clubhouse_900_500.jpg
END:VEVENT
END:VCALENDAR