BEGIN:VCALENDAR
VERSION:2.0
PRODID:-//Həlimə Qəmərlinskaya - ECPv4.9.4//NONSGML v1.0//EN
CALSCALE:GREGORIAN
METHOD:PUBLISH
X-WR-CALNAME:Həlimə Qəmərlinskaya
X-ORIGINAL-URL:https://az.hgacademy.online
X-WR-CALDESC:Üçün tədbirlər Həlimə Qəmərlinskaya
BEGIN:VTIMEZONE
TZID:"Europe/Moscow"
BEGIN:STANDARD
TZOFFSETFROM:+0300
TZOFFSETTO:+0300
TZNAME:MSK
DTSTART:20200101T000000
END:STANDARD
END:VTIMEZONE
BEGIN:VEVENT
DTSTART;TZID="Europe/Moscow":20200404T150000
DTEND;TZID="Europe/Moscow":20200404T170000
DTSTAMP:20260422T194034
CREATED:20200404T183355Z
LAST-MODIFIED:20200404T183355Z
UID:4504-1586012400-1586019600@az.hgacademy.online
SUMMARY:Ödənişli vebinar "Yeniyetmələr üçün şüurlu peşə yönümü"
DESCRIPTION:.fusion-gallery-1 .fusion-gallery-image {border:0px solid #f6f6f6;}\n
URL:https://az.hgacademy.online/event/od-nisli-vebinar-yeniyetm-l-r-ucun-suurlu-pes-yonumu/
END:VEVENT
END:VCALENDAR