BEGIN:VCALENDAR
VERSION:2.0
PRODID:-//Həlimə Qəmərlinskaya - ECPv4.9.4//NONSGML v1.0//EN
CALSCALE:GREGORIAN
METHOD:PUBLISH
X-WR-CALNAME:Həlimə Qəmərlinskaya
X-ORIGINAL-URL:https://az.hgacademy.online
X-WR-CALDESC:Üçün tədbirlər Həlimə Qəmərlinskaya
BEGIN:VTIMEZONE
TZID:"Europe/Moscow"
BEGIN:STANDARD
TZOFFSETFROM:+0300
TZOFFSETTO:+0300
TZNAME:MSK
DTSTART:20200101T000000
END:STANDARD
END:VTIMEZONE
BEGIN:VEVENT
DTSTART;TZID="Europe/Moscow":20200325T160000
DTEND;TZID="Europe/Moscow":20200325T173000
DTSTAMP:20260422T224623
CREATED:20200324T083328Z
LAST-MODIFIED:20200325T212651Z
UID:4370-1585152000-1585157400@az.hgacademy.online
SUMMARY:Mövzumuz "Həyəcan vaxtında necə sakitləşək və düşüncələrimizi necə qaydaya salaq?" olacaq.
DESCRIPTION:Dəyərli dostlarım\, sizləri vəziyyətə uyğun lap yerinə düşən bir vebinara dəvət etmək istərdim.\n🧘🏽‍♀ Mövzumuz “Həyəcan vaxtında necə sakitləşək və düşüncələrimizi necə qaydaya salaq?” olacaq.\n🗓Əgər bu vebinar sizə köməkcil ola bilər və ya görüm bir nə danışacaqlar marağındasınızsa 25 Mart tarixində\, Çərşənbə günü\, saat 16:00-17:30 arası sizlərlə olacağıq.\n🔜Daxil olmaq üçün link aşağıdadır.\nhttps://us04web.zoom.us/j/188504412\nYerlər limitlidir (max: 100).\n❗️İştirak ödənişsizdir!  \n\n.fusion-gallery-1 .fusion-gallery-image {border:0px solid #f6f6f6;}\n
URL:https://az.hgacademy.online/event/movzumuz-h-y-can-vaxtinda-nec-sakitl-s-k-v-dusunc-l-rimizi-nec-qaydaya-salaq-olacaq/
ATTACH;FMTTYPE=image/jpeg:https://az.hgacademy.online/wp-content/uploads/2020/03/2020_03_25_webinar_900_500.jpg
END:VEVENT
END:VCALENDAR