BEGIN:VCALENDAR
VERSION:2.0
PRODID:-//Həlimə Qəmərlinskaya - ECPv4.9.4//NONSGML v1.0//EN
CALSCALE:GREGORIAN
METHOD:PUBLISH
X-WR-CALNAME:Həlimə Qəmərlinskaya
X-ORIGINAL-URL:https://az.hgacademy.online
X-WR-CALDESC:Üçün tədbirlər Həlimə Qəmərlinskaya
BEGIN:VTIMEZONE
TZID:"Europe/Moscow"
BEGIN:STANDARD
TZOFFSETFROM:+0300
TZOFFSETTO:+0300
TZNAME:MSK
DTSTART:20190101T000000
END:STANDARD
END:VTIMEZONE
BEGIN:VEVENT
DTSTART;VALUE=DATE:20190911
DTEND;VALUE=DATE:20190912
DTSTAMP:20260422T224556
CREATED:20190912T025534Z
LAST-MODIFIED:20190912T025534Z
UID:3582-1568160000-1568246399@az.hgacademy.online
SUMMARY:Mövsümündə açılışı KPMG audit şirkəti ilə “İş və Həyat Balansı” mövzusunda təlimlə etdik
DESCRIPTION:Beləliklə\, yeni mövsüm başladı və bu payız mövsümündə açılışı KPMG audit şirkəti ilə “İş və Həyat Balansı” mövzusunda təlimlə etdik. Təlimdə balansın nə demək olduğu\, balans olmadıqda hasnı fəsadlar gətirməsi barədə danışdıq\, balansın tənzimlənməsi üçün alətlər verildi\, müxtəlif testlər keçirildi və müxtəlif müzakirələr aparıldı. Təlimin sonunda mənə təqdim olunan sürpriz – təlimdən xatirə hədiyyə üçün xüsusi təşəkkür. Çox sağ olun! \n  \n.fusion-gallery-1 .fusion-gallery-image {border:0px solid #f6f6f6;}\n
URL:https://az.hgacademy.online/event/movsumund-acilisi-kpmg-audit-sirk-ti-il-is-v-h-yat-balansi-movzusunda-t-liml-etdik/
ATTACH;FMTTYPE=image/jpeg:https://az.hgacademy.online/wp-content/uploads/2019/09/2019_09_11_trening_kpmg_000_900x500.jpg
END:VEVENT
END:VCALENDAR