BEGIN:VCALENDAR
VERSION:2.0
PRODID:-//Həlimə Qəmərlinskaya - ECPv4.9.4//NONSGML v1.0//EN
CALSCALE:GREGORIAN
METHOD:PUBLISH
X-WR-CALNAME:Həlimə Qəmərlinskaya
X-ORIGINAL-URL:https://az.hgacademy.online
X-WR-CALDESC:Üçün tədbirlər Həlimə Qəmərlinskaya
BEGIN:VTIMEZONE
TZID:"Europe/Moscow"
BEGIN:STANDARD
TZOFFSETFROM:+0300
TZOFFSETTO:+0300
TZNAME:MSK
DTSTART:20200101T000000
END:STANDARD
END:VTIMEZONE
BEGIN:VEVENT
DTSTART;TZID="Europe/Moscow":20200626T170000
DTEND;TZID="Europe/Moscow":20200626T180000
DTSTAMP:20260422T175252
CREATED:20200625T215509Z
LAST-MODIFIED:20200625T215509Z
UID:4922-1593190800-1593194400@az.hgacademy.online
SUMMARY:Medıcal Medıa kanalında canlı yayım
DESCRIPTION:26 İyun\, 17: 00.\nStressmenage ilə bağlı suallara cavab vermək üçün Medıcal Media kanalında canlı olacağam \n\n
URL:https://az.hgacademy.online/event/medical-media-kanalinda-canli-yayim/
ATTACH;FMTTYPE=image/jpeg:https://az.hgacademy.online/wp-content/uploads/2020/06/2020_06_26_medical_media_900_500.jpg
END:VEVENT
END:VCALENDAR