BEGIN:VCALENDAR
VERSION:2.0
PRODID:-//Həlimə Qəmərlinskaya - ECPv4.9.4//NONSGML v1.0//EN
CALSCALE:GREGORIAN
METHOD:PUBLISH
X-WR-CALNAME:Həlimə Qəmərlinskaya
X-ORIGINAL-URL:https://az.hgacademy.online
X-WR-CALDESC:Üçün tədbirlər Həlimə Qəmərlinskaya
BEGIN:VTIMEZONE
TZID:"Europe/Moscow"
BEGIN:STANDARD
TZOFFSETFROM:+0300
TZOFFSETTO:+0300
TZNAME:MSK
DTSTART:20200101T000000
END:STANDARD
END:VTIMEZONE
BEGIN:VEVENT
DTSTART;VALUE=DATE:20200323
DTEND;VALUE=DATE:20200324
DTSTAMP:20260422T211528
CREATED:20200323T182024Z
LAST-MODIFIED:20200323T183819Z
UID:4366-1584921600-1585007999@az.hgacademy.online
SUMMARY:Korporativ vebinarım “Stres və onun fəsadları!”
DESCRIPTION:.fusion-gallery-1 .fusion-gallery-image {border:0px solid #f6f6f6;}\n
URL:https://az.hgacademy.online/event/korporativ-vebinarim-stres-v-onun-f-sadlari/
ATTACH;FMTTYPE=image/jpeg:https://az.hgacademy.online/wp-content/uploads/2020/03/2020_03_23_webinar_stressout_socaraqs_005_900_500.jpg
END:VEVENT
END:VCALENDAR