BEGIN:VCALENDAR
VERSION:2.0
PRODID:-//Həlimə Qəmərlinskaya - ECPv4.9.4//NONSGML v1.0//EN
CALSCALE:GREGORIAN
METHOD:PUBLISH
X-WR-CALNAME:Həlimə Qəmərlinskaya
X-ORIGINAL-URL:https://az.hgacademy.online
X-WR-CALDESC:Üçün tədbirlər Həlimə Qəmərlinskaya
BEGIN:VTIMEZONE
TZID:"Europe/Moscow"
BEGIN:STANDARD
TZOFFSETFROM:+0300
TZOFFSETTO:+0300
TZNAME:MSK
DTSTART:20210101T000000
END:STANDARD
END:VTIMEZONE
BEGIN:VEVENT
DTSTART;TZID="Europe/Moscow":20210224T080000
DTEND;TZID="Europe/Moscow":20210224T103000
DTSTAMP:20260422T155456
CREATED:20210223T190211Z
LAST-MODIFIED:20210227T193516Z
UID:5126-1614153600-1614162600@az.hgacademy.online
SUMMARY:ITV
DESCRIPTION:\n#doctorhalima #itv #coach #psychology #psychiatry #motivation #values\n\n\n
URL:https://az.hgacademy.online/event/itv/
ATTACH;FMTTYPE=image/jpeg:https://az.hgacademy.online/wp-content/uploads/2021/02/2021_02_23_itv_event_900_500.jpg
END:VEVENT
END:VCALENDAR