BEGIN:VCALENDAR
VERSION:2.0
PRODID:-//Həlimə Qəmərlinskaya - ECPv4.9.4//NONSGML v1.0//EN
CALSCALE:GREGORIAN
METHOD:PUBLISH
X-WR-CALNAME:Həlimə Qəmərlinskaya
X-ORIGINAL-URL:https://az.hgacademy.online
X-WR-CALDESC:Üçün tədbirlər Həlimə Qəmərlinskaya
BEGIN:VTIMEZONE
TZID:"Europe/Moscow"
BEGIN:STANDARD
TZOFFSETFROM:+0300
TZOFFSETTO:+0300
TZNAME:MSK
DTSTART:20190101T000000
END:STANDARD
END:VTIMEZONE
BEGIN:VEVENT
DTSTART;VALUE=DATE:20191023
DTEND;VALUE=DATE:20191024
DTSTAMP:20260422T224306
CREATED:20191021T190828Z
LAST-MODIFIED:20191023T100013Z
UID:3949-1571788800-1571875199@az.hgacademy.online
SUMMARY:İTV kanalında “Dik daban” verlişində Stres barədə danışacayıq.
DESCRIPTION:10:00 – 11:00 \n.fusion-gallery-1 .fusion-gallery-image {border:0px solid #f6f6f6;}\n
URL:https://az.hgacademy.online/event/itv-kanalinda-dik-daban-verlisind-stres-bar-d-danisacayiq/
ATTACH;FMTTYPE=image/jpeg:https://az.hgacademy.online/wp-content/uploads/2019/10/2019_10_23_itv_dik_daban_002_900_500.jpg
END:VEVENT
END:VCALENDAR