BEGIN:VCALENDAR
VERSION:2.0
PRODID:-//Həlimə Qəmərlinskaya - ECPv4.9.4//NONSGML v1.0//EN
CALSCALE:GREGORIAN
METHOD:PUBLISH
X-WR-CALNAME:Həlimə Qəmərlinskaya
X-ORIGINAL-URL:https://az.hgacademy.online
X-WR-CALDESC:Üçün tədbirlər Həlimə Qəmərlinskaya
BEGIN:VTIMEZONE
TZID:"Europe/Moscow"
BEGIN:STANDARD
TZOFFSETFROM:+0300
TZOFFSETTO:+0300
TZNAME:MSK
DTSTART:20210101T000000
END:STANDARD
END:VTIMEZONE
BEGIN:VEVENT
DTSTART;TZID="Europe/Moscow":20211012T091500
DTEND;TZID="Europe/Moscow":20211012T110000
DTSTAMP:20260422T155847
CREATED:20211011T184202Z
LAST-MODIFIED:20211011T184202Z
UID:5449-1634030100-1634036400@az.hgacademy.online
SUMMARY:İtv: "İnternetin uşaqlara təsiri"
DESCRIPTION:“İnternetin uşaqlara təsiri” mövzusunda 12.10.2021 İtv kanalında\n \n
URL:https://az.hgacademy.online/event/itv-internetin-usaqlara-t-siri/
ATTACH;FMTTYPE=image/jpeg:https://az.hgacademy.online/wp-content/uploads/2021/10/2021_10_12_itv_900_500.jpg
END:VEVENT
END:VCALENDAR