BEGIN:VCALENDAR
VERSION:2.0
PRODID:-//Həlimə Qəmərlinskaya - ECPv4.9.4//NONSGML v1.0//EN
CALSCALE:GREGORIAN
METHOD:PUBLISH
X-WR-CALNAME:Həlimə Qəmərlinskaya
X-ORIGINAL-URL:https://az.hgacademy.online
X-WR-CALDESC:Üçün tədbirlər Həlimə Qəmərlinskaya
BEGIN:VTIMEZONE
TZID:"Europe/Moscow"
BEGIN:STANDARD
TZOFFSETFROM:+0300
TZOFFSETTO:+0300
TZNAME:MSK
DTSTART:20190101T000000
END:STANDARD
END:VTIMEZONE
BEGIN:VEVENT
DTSTART;VALUE=DATE:20191001
DTEND;VALUE=DATE:20191002
DTSTAMP:20260422T224207
CREATED:20190929T111819Z
LAST-MODIFIED:20191005T132237Z
UID:3744-1569888000-1569974399@az.hgacademy.online
SUMMARY:İTV-də “Müasir müəllim\, təlimçi obrazı
DESCRIPTION:Oktyabrın 1-də İTV-də “Müasir müəllim\, təlimçi obrazı. Trenddə qalmaq üçün lazımi qabiliyyətlər.” mövzusunda mənim iştirakımla verlişin çəkilişi olacaq. Veriliş oktyabrın 6-da yayımlanacaq \n\n					\n						.fusion-gallery-1 .fusion-gallery-image {border:0px solid #f6f6f6;}\n\n					\n				\n
URL:https://az.hgacademy.online/event/itv-d-muasir-mu-llim-t-limci-obrazi/
ATTACH;FMTTYPE=image/jpeg:https://az.hgacademy.online/wp-content/uploads/2019/10/2019_10_01_itv_001_900_500.jpg
END:VEVENT
END:VCALENDAR