BEGIN:VCALENDAR
VERSION:2.0
PRODID:-//Həlimə Qəmərlinskaya - ECPv4.9.4//NONSGML v1.0//EN
CALSCALE:GREGORIAN
METHOD:PUBLISH
X-WR-CALNAME:Həlimə Qəmərlinskaya
X-ORIGINAL-URL:https://az.hgacademy.online
X-WR-CALDESC:Üçün tədbirlər Həlimə Qəmərlinskaya
BEGIN:VTIMEZONE
TZID:"Europe/Moscow"
BEGIN:STANDARD
TZOFFSETFROM:+0300
TZOFFSETTO:+0300
TZNAME:MSK
DTSTART:20190101T000000
END:STANDARD
END:VTIMEZONE
BEGIN:VEVENT
DTSTART;TZID="Europe/Moscow":20190920T190000
DTEND;TZID="Europe/Moscow":20190920T220000
DTSTAMP:20260422T224126
CREATED:20190902T195816Z
LAST-MODIFIED:20190922T212148Z
UID:3525-1569006000-1569016800@az.hgacademy.online
SUMMARY:İş və Həyat Balansı
DESCRIPTION:İş və həyat balansı qurmaq hər bir qadın üçün ən vacib amillərdən biridir. \nDüzgün qurulmuş balans xoşbəxt və hüzurlu həyatın açarıdır. \n20 Sentyabr 19:00-da WoWoman-da “İş və Həyat Balansı” təlimim baş tutacaq.\nEksklyuziv olaraq WoWoman Grow&Inspire üzvləri üçün! \nIş və həyat balansı treninqi özündə nələri cəmləşdirir: \n\nİş həyatının balansı müəyyən edilmişdir: Nə deməkdir\, nə demək deyil?\nÖz işinizin və şəxsi həyatınızın nəticələrinin məsuliyyətini qəbul etmək\nHər gün balansda qalmaq üçün bir üsul\nMünasibətlərinizdə keyfiyyətli vaxtı artırmaq üçün time management həlləri: işdə\, ailə və ya dostlarla\nGündəlik fəaliyyətləri iş həyatının məqsədləri ilə əlaqələndirmək\nZamanla iş həyat balansınızı effektiv şəkildə tənzimləmək\n\n\n					\n						.fusion-gallery-1 .fusion-gallery-image {border:0px solid #f6f6f6;}\n\n					\n				\n
URL:https://az.hgacademy.online/event/is-v-h-yat-balansi/
ATTACH;FMTTYPE=image/jpeg:https://az.hgacademy.online/wp-content/uploads/2019/09/2019_09_20_work-and-life-balance.jpg
END:VEVENT
END:VCALENDAR