BEGIN:VCALENDAR
VERSION:2.0
PRODID:-//Həlimə Qəmərlinskaya - ECPv4.9.4//NONSGML v1.0//EN
CALSCALE:GREGORIAN
METHOD:PUBLISH
X-WR-CALNAME:Həlimə Qəmərlinskaya
X-ORIGINAL-URL:https://az.hgacademy.online
X-WR-CALDESC:Üçün tədbirlər Həlimə Qəmərlinskaya
BEGIN:VTIMEZONE
TZID:"Europe/Moscow"
BEGIN:STANDARD
TZOFFSETFROM:+0300
TZOFFSETTO:+0300
TZNAME:MSK
DTSTART:20190101T000000
END:STANDARD
END:VTIMEZONE
BEGIN:VEVENT
DTSTART;VALUE=DATE:20191130
DTEND;VALUE=DATE:20191201
DTSTAMP:20260422T224750
CREATED:20191125T120107Z
LAST-MODIFIED:20191201T130000Z
UID:4109-1575072000-1575158399@az.hgacademy.online
SUMMARY:İpoteka və Kredit Zəmanət Fondunun rəhbərlərin bir qrupuna “İdarəçiliyin əsasları” adlı təlimin
DESCRIPTION:.fusion-gallery-1 .fusion-gallery-image {border:0px solid #f6f6f6;}\n
URL:https://az.hgacademy.online/event/ipoteka-v-kredit-z-man-t-fondunun-r-hb-rl-rin-bir-qrupuna-idar-ciliyin-saslari-adli-t-limin-3/
ATTACH;FMTTYPE=image/jpeg:https://az.hgacademy.online/wp-content/uploads/2019/12/2019_11_30_upravlencheskie_naviki_013_900_500.jpg
END:VEVENT
END:VCALENDAR