BEGIN:VCALENDAR
VERSION:2.0
PRODID:-//Həlimə Qəmərlinskaya - ECPv4.9.4//NONSGML v1.0//EN
CALSCALE:GREGORIAN
METHOD:PUBLISH
X-WR-CALNAME:Həlimə Qəmərlinskaya
X-ORIGINAL-URL:https://az.hgacademy.online
X-WR-CALDESC:Üçün tədbirlər Həlimə Qəmərlinskaya
BEGIN:VTIMEZONE
TZID:"Europe/Moscow"
BEGIN:STANDARD
TZOFFSETFROM:+0300
TZOFFSETTO:+0300
TZNAME:MSK
DTSTART:20190101T000000
END:STANDARD
END:VTIMEZONE
BEGIN:VEVENT
DTSTART;VALUE=DATE:20191126
DTEND;VALUE=DATE:20191127
DTSTAMP:20260422T224724
CREATED:20191125T120048Z
LAST-MODIFIED:20191127T233757Z
UID:4107-1574726400-1574812799@az.hgacademy.online
SUMMARY:İpoteka və Kredit Zəmanət Fondunun rəhbərlərin bir qrupuna “İdarəçiliyin əsasları” adlı təlimin
DESCRIPTION:
URL:https://az.hgacademy.online/event/ipoteka-v-kredit-z-man-t-fondunun-r-hb-rl-rin-bir-qrupuna-idar-ciliyin-saslari-adli-t-limin-2/
ATTACH;FMTTYPE=image/jpeg:https://az.hgacademy.online/wp-content/uploads/2019/11/2019_11_26_upravlencheskie_naviki_005_900_500.jpg
END:VEVENT
END:VCALENDAR