BEGIN:VCALENDAR
VERSION:2.0
PRODID:-//Həlimə Qəmərlinskaya - ECPv4.9.4//NONSGML v1.0//EN
CALSCALE:GREGORIAN
METHOD:PUBLISH
X-WR-CALNAME:Həlimə Qəmərlinskaya
X-ORIGINAL-URL:https://az.hgacademy.online
X-WR-CALDESC:Üçün tədbirlər Həlimə Qəmərlinskaya
BEGIN:VTIMEZONE
TZID:"Europe/Moscow"
BEGIN:STANDARD
TZOFFSETFROM:+0300
TZOFFSETTO:+0300
TZNAME:MSK
DTSTART:20220101T000000
END:STANDARD
END:VTIMEZONE
BEGIN:VEVENT
DTSTART;TZID="Europe/Moscow":20220328T083000
DTEND;TZID="Europe/Moscow":20220328T093000
DTSTAMP:20260422T143641
CREATED:20220325T040735Z
LAST-MODIFIED:20220325T040735Z
UID:5683-1648456200-1648459800@az.hgacademy.online
SUMMARY:İctimai TV
DESCRIPTION:28 Mart\, 8:30 İctimai TV\, “həftə sonundan sonra iş rejiminə necə uyğunlaşma”mövzusunda çıxış \n
URL:https://az.hgacademy.online/event/ictimai-tv/
END:VEVENT
END:VCALENDAR