BEGIN:VCALENDAR
VERSION:2.0
PRODID:-//Həlimə Qəmərlinskaya - ECPv4.9.4//NONSGML v1.0//EN
CALSCALE:GREGORIAN
METHOD:PUBLISH
X-WR-CALNAME:Həlimə Qəmərlinskaya
X-ORIGINAL-URL:https://az.hgacademy.online
X-WR-CALDESC:Üçün tədbirlər Həlimə Qəmərlinskaya
BEGIN:VTIMEZONE
TZID:"Europe/Moscow"
BEGIN:STANDARD
TZOFFSETFROM:+0300
TZOFFSETTO:+0300
TZNAME:MSK
DTSTART:20210101T000000
END:STANDARD
END:VTIMEZONE
BEGIN:VEVENT
DTSTART;TZID="Europe/Moscow":20210705T130000
DTEND;TZID="Europe/Moscow":20210705T140000
DTSTAMP:20260422T160923
CREATED:20210705T074601Z
LAST-MODIFIED:20210705T074628Z
UID:5370-1625490000-1625493600@az.hgacademy.online
SUMMARY:İctimai Radio
DESCRIPTION:Dostlar\, vaxtınız olsa\, buyurun\, qoşulun bizə. 🆒Çalışaram canlı yayım da edim.\nİş mühitində etiket qaydalarından Nərmin Aşurzadə söhbət aparacayıq.\n#doctorhalima #coach #coaching #etiquette #business #corporateculture #development \n\n  \n
URL:https://az.hgacademy.online/event/ictimai-radio/
ATTACH;FMTTYPE=image/jpeg:https://az.hgacademy.online/wp-content/uploads/2021/07/2021_07_05_ictimai_radio_900_500.jpg
END:VEVENT
END:VCALENDAR