BEGIN:VCALENDAR
VERSION:2.0
PRODID:-//Həlimə Qəmərlinskaya - ECPv4.9.4//NONSGML v1.0//EN
CALSCALE:GREGORIAN
METHOD:PUBLISH
X-WR-CALNAME:Həlimə Qəmərlinskaya
X-ORIGINAL-URL:https://az.hgacademy.online
X-WR-CALDESC:Üçün tədbirlər Həlimə Qəmərlinskaya
BEGIN:VTIMEZONE
TZID:"Europe/Moscow"
BEGIN:STANDARD
TZOFFSETFROM:+0300
TZOFFSETTO:+0300
TZNAME:MSK
DTSTART:20210101T000000
END:STANDARD
END:VTIMEZONE
BEGIN:VEVENT
DTSTART;TZID="Europe/Moscow":20211222T130000
DTEND;TZID="Europe/Moscow":20211222T143000
DTSTAMP:20260422T143715
CREATED:20211221T203430Z
LAST-MODIFIED:20211221T203430Z
UID:5589-1640178000-1640183400@az.hgacademy.online
SUMMARY:İctimai Radio
DESCRIPTION:Dostlar\, Nərmin Aşurzadə Məmmədlidən sabah maraqlı suallar gözləyəcəm.\nCanlı yayım edəcəm\, İnşaAllah.\nİctimai Radio \n\n
URL:https://az.hgacademy.online/event/ictimai-radio-2/
ATTACH;FMTTYPE=image/jpeg:https://az.hgacademy.online/wp-content/uploads/2021/12/2021_12_21_ictimai_radio_900_500.jpg
END:VEVENT
END:VCALENDAR