BEGIN:VCALENDAR
VERSION:2.0
PRODID:-//Həlimə Qəmərlinskaya - ECPv4.9.4//NONSGML v1.0//EN
CALSCALE:GREGORIAN
METHOD:PUBLISH
X-WR-CALNAME:Həlimə Qəmərlinskaya
X-ORIGINAL-URL:https://az.hgacademy.online
X-WR-CALDESC:Üçün tədbirlər Həlimə Qəmərlinskaya
BEGIN:VTIMEZONE
TZID:"Europe/Moscow"
BEGIN:STANDARD
TZOFFSETFROM:+0300
TZOFFSETTO:+0300
TZNAME:MSK
DTSTART:20200101T000000
END:STANDARD
END:VTIMEZONE
BEGIN:VEVENT
DTSTART;VALUE=DATE:20200115
DTEND;VALUE=DATE:20200116
DTSTAMP:20260422T211459
CREATED:20200114T100800Z
LAST-MODIFIED:20200117T100925Z
UID:4325-1579046400-1579132799@az.hgacademy.online
SUMMARY:HR BRAVO şirkətində "İş və Həyat Balansı" təlimi
DESCRIPTION:.fusion-gallery-1 .fusion-gallery-image {border:0px solid #f6f6f6;}\n
URL:https://az.hgacademy.online/event/hr-bravo-sirk-tind-is-v-h-yat-balansi-t-limi/
ATTACH;FMTTYPE=image/jpeg:https://az.hgacademy.online/wp-content/uploads/2020/01/2020_01_15_training_bravo_hyper_koroglu_004_900_500.jpg
END:VEVENT
END:VCALENDAR