BEGIN:VCALENDAR
VERSION:2.0
PRODID:-//Həlimə Qəmərlinskaya - ECPv4.9.4//NONSGML v1.0//EN
CALSCALE:GREGORIAN
METHOD:PUBLISH
X-WR-CALNAME:Həlimə Qəmərlinskaya
X-ORIGINAL-URL:https://az.hgacademy.online
X-WR-CALDESC:Üçün tədbirlər Həlimə Qəmərlinskaya
BEGIN:VTIMEZONE
TZID:"Europe/Moscow"
BEGIN:STANDARD
TZOFFSETFROM:+0300
TZOFFSETTO:+0300
TZNAME:MSK
DTSTART:20200101T000000
END:STANDARD
END:VTIMEZONE
BEGIN:VEVENT
DTSTART;TZID="Europe/Moscow":20200405T110000
DTEND;TZID="Europe/Moscow":20200405T120000
DTSTAMP:20260422T193614
CREATED:20200404T154709Z
LAST-MODIFIED:20200405T214440Z
UID:4483-1586084400-1586088000@az.hgacademy.online
SUMMARY:"Gəl qonaq ol"
DESCRIPTION:Aprelin 5-də\, saat 11:00-dan 12:00- dək\, Saleh Bağırovun apardığı”Gəl qonaq ol” verlişində səhər qonağı olacam. Qoşulun! \n\n.fusion-gallery-1 .fusion-gallery-image {border:0px solid #f6f6f6;}\n
URL:https://az.hgacademy.online/event/g-l-qonaq-ol/
ATTACH;FMTTYPE=image/jpeg:https://az.hgacademy.online/wp-content/uploads/2020/04/2020_04_05_itv_900_500.jpg
END:VEVENT
END:VCALENDAR