BEGIN:VCALENDAR
VERSION:2.0
PRODID:-//Həlimə Qəmərlinskaya - ECPv4.9.4//NONSGML v1.0//EN
CALSCALE:GREGORIAN
METHOD:PUBLISH
X-WR-CALNAME:Həlimə Qəmərlinskaya
X-ORIGINAL-URL:https://az.hgacademy.online
X-WR-CALDESC:Üçün tədbirlər Həlimə Qəmərlinskaya
BEGIN:VTIMEZONE
TZID:"Europe/Moscow"
BEGIN:STANDARD
TZOFFSETFROM:+0300
TZOFFSETTO:+0300
TZNAME:MSK
DTSTART:20190101T000000
END:STANDARD
END:VTIMEZONE
BEGIN:VEVENT
DTSTART;VALUE=DATE:20191018
DTEND;VALUE=DATE:20191019
DTSTAMP:20260422T211323
CREATED:20191016T100444Z
LAST-MODIFIED:20191016T100507Z
UID:3927-1571356800-1571443199@az.hgacademy.online
SUMMARY:Formula 1 BCC əməkdaşları üçün Çevik Zəka təlimi
DESCRIPTION:
URL:https://az.hgacademy.online/event/formula-1-bcc-m-kdaslari-ucun-cevik-z-ka-t-limi/
ATTACH;FMTTYPE=image/jpeg:https://az.hgacademy.online/wp-content/uploads/2019/10/2019_10_10_agile_mindset_azercell_002_900_500.jpg
END:VEVENT
END:VCALENDAR