BEGIN:VCALENDAR
VERSION:2.0
PRODID:-//Həlimə Qəmərlinskaya - ECPv4.9.4//NONSGML v1.0//EN
CALSCALE:GREGORIAN
METHOD:PUBLISH
X-WR-CALNAME:Həlimə Qəmərlinskaya
X-ORIGINAL-URL:https://az.hgacademy.online
X-WR-CALDESC:Üçün tədbirlər Həlimə Qəmərlinskaya
BEGIN:VTIMEZONE
TZID:"Europe/Moscow"
BEGIN:STANDARD
TZOFFSETFROM:+0300
TZOFFSETTO:+0300
TZNAME:MSK
DTSTART:20190101T000000
END:STANDARD
END:VTIMEZONE
BEGIN:VEVENT
DTSTART;VALUE=DATE:20191025
DTEND;VALUE=DATE:20191026
DTSTAMP:20260422T211356
CREATED:20191016T100529Z
LAST-MODIFIED:20191026T125637Z
UID:3931-1571961600-1572047999@az.hgacademy.online
SUMMARY:Formula 1 BCC əməkdaşları üçün Çevik Zəka təlimi
DESCRIPTION:.fusion-gallery-1 .fusion-gallery-image {border:0px solid #f6f6f6;}\n
URL:https://az.hgacademy.online/event/formula-1-bcc-m-kdaslari-ucun-cevik-z-ka-t-limi-2/
ATTACH;FMTTYPE=image/jpeg:https://az.hgacademy.online/wp-content/uploads/2019/10/2019_10_25_formula_1_bcc_006_900_500.jpg
END:VEVENT
END:VCALENDAR