BEGIN:VCALENDAR
VERSION:2.0
PRODID:-//Həlimə Qəmərlinskaya - ECPv4.9.4//NONSGML v1.0//EN
CALSCALE:GREGORIAN
METHOD:PUBLISH
X-WR-CALNAME:Həlimə Qəmərlinskaya
X-ORIGINAL-URL:https://az.hgacademy.online
X-WR-CALDESC:Üçün tədbirlər Həlimə Qəmərlinskaya
BEGIN:VTIMEZONE
TZID:"Europe/Moscow"
BEGIN:STANDARD
TZOFFSETFROM:+0300
TZOFFSETTO:+0300
TZNAME:MSK
DTSTART:20200101T000000
END:STANDARD
END:VTIMEZONE
BEGIN:VEVENT
DTSTART;TZID="Europe/Moscow":20200510T160000
DTEND;TZID="Europe/Moscow":20200510T170000
DTSTAMP:20260422T194039
CREATED:20200510T125823Z
LAST-MODIFIED:20200510T125823Z
UID:4792-1589126400-1589130000@az.hgacademy.online
SUMMARY:Dünya Psixoloqlar Günü münasibəti ilə keçiriləcək “Peşəkarlar danışır” adlı onlayn Beynalxalq Konfransda ‼️
DESCRIPTION:10 May\, saat 16:00 Dünya Psixoloqlar Günü münasibəti ilə keçiriləcək “Peşəkarlar danışır” adlı onlayn Beynalxalq Konfransda ‼️“Emosional sönmə” mövzusunda spiker qismində çıxış edəcəm.\nCanlı yayım İnstagram @dr.halima.coach və fb https://www.facebook.com/HG.Coach izləyə bilərsiniz \n#evdeqal #doctorhalima #appa #psychology\n#appa #emotionalburnout #EQ #speaker #conference \n\n
URL:https://az.hgacademy.online/event/dunya-psixoloqlar-gunu-munasib-ti-il-keciril-c-k-pes-karlar-danisir-adli-onlayn-beynalxalq-konfransda/
ATTACH;FMTTYPE=image/jpeg:https://az.hgacademy.online/wp-content/uploads/2020/05/2020_05_10_online_conference_900_500.jpg
END:VEVENT
END:VCALENDAR