BEGIN:VCALENDAR
VERSION:2.0
PRODID:-//Həlimə Qəmərlinskaya - ECPv4.9.4//NONSGML v1.0//EN
CALSCALE:GREGORIAN
METHOD:PUBLISH
X-WR-CALNAME:Həlimə Qəmərlinskaya
X-ORIGINAL-URL:https://az.hgacademy.online
X-WR-CALDESC:Üçün tədbirlər Həlimə Qəmərlinskaya
BEGIN:VTIMEZONE
TZID:"Europe/Moscow"
BEGIN:STANDARD
TZOFFSETFROM:+0300
TZOFFSETTO:+0300
TZNAME:MSK
DTSTART:20210101T000000
END:STANDARD
END:VTIMEZONE
BEGIN:VEVENT
DTSTART;VALUE=DATE:20210126
DTEND;VALUE=DATE:20210127
DTSTAMP:20260422T175443
CREATED:20210124T211356Z
LAST-MODIFIED:20210128T211606Z
UID:5077-1611619200-1611705599@az.hgacademy.online
SUMMARY:Bu ilin ilk korporativ vebinarını səbirsizliklə gözləyirəm!
DESCRIPTION:👍Bu ilin ilk korporativ vebinarını səbirsizliklə gözləyirəm!\n❗️Əlamətdarı odur ki\, keçirəcəyim ilk vebinar məhz SOCAR-dadır. \n#doctorhalima #stressmanagement #webinar #socar #training\n.fusion-gallery-1 .fusion-gallery-image {border:0px solid #f6f6f6;} \n
URL:https://az.hgacademy.online/event/bu-ilin-ilk-korporativ-vebinarini-s-birsizlikl-gozl-yir-m/
ATTACH;FMTTYPE=image/jpeg:https://az.hgacademy.online/wp-content/uploads/2021/01/2021_01_26_stress_webinar_001_900_500.jpg
END:VEVENT
END:VCALENDAR