BEGIN:VCALENDAR
VERSION:2.0
PRODID:-//Həlimə Qəmərlinskaya - ECPv4.9.4//NONSGML v1.0//EN
CALSCALE:GREGORIAN
METHOD:PUBLISH
X-WR-CALNAME:Həlimə Qəmərlinskaya
X-ORIGINAL-URL:https://az.hgacademy.online
X-WR-CALDESC:Üçün tədbirlər Həlimə Qəmərlinskaya
BEGIN:VTIMEZONE
TZID:"Europe/Moscow"
BEGIN:STANDARD
TZOFFSETFROM:+0300
TZOFFSETTO:+0300
TZNAME:MSK
DTSTART:20200101T000000
END:STANDARD
END:VTIMEZONE
BEGIN:VEVENT
DTSTART;TZID="Europe/Moscow":20200415T180000
DTEND;TZID="Europe/Moscow":20200415T200000
DTSTAMP:20260422T194214
CREATED:20200415T081949Z
LAST-MODIFIED:20200415T083337Z
UID:4603-1586973600-1586980800@az.hgacademy.online
SUMMARY:Bu gün saat 18:00-da ARB kanalında “Kompyueter oyunlardan asıllıq” barədə Tutu xanımla danışacayıq.
DESCRIPTION:Bu gün saat 18:00-da ARB kanalında “Kompyueter oyunlardan asıllıq” barədə Tutu xanımla danışacayıq. \n#evdəqal #doctorhalima #coach #ludomania#developmentneverstop #arb  \n\n
URL:https://az.hgacademy.online/event/bu-gun-saat-18-00-da-arb-kanalinda-kompyueter-oyunlardan-asilliq-bar-d-tutu-xanimla-danisacayiq/
ATTACH;FMTTYPE=image/jpeg:https://az.hgacademy.online/wp-content/uploads/2020/04/2020_04_15_arb_tv_900_500.jpg
END:VEVENT
END:VCALENDAR