BEGIN:VCALENDAR
VERSION:2.0
PRODID:-//Həlimə Qəmərlinskaya - ECPv4.9.4//NONSGML v1.0//EN
CALSCALE:GREGORIAN
METHOD:PUBLISH
X-WR-CALNAME:Həlimə Qəmərlinskaya
X-ORIGINAL-URL:https://az.hgacademy.online
X-WR-CALDESC:Üçün tədbirlər Həlimə Qəmərlinskaya
BEGIN:VTIMEZONE
TZID:"Europe/Moscow"
BEGIN:STANDARD
TZOFFSETFROM:+0300
TZOFFSETTO:+0300
TZNAME:MSK
DTSTART:20200101T000000
END:STANDARD
END:VTIMEZONE
BEGIN:VEVENT
DTSTART;TZID="Europe/Moscow":20200228T180000
DTEND;TZID="Europe/Moscow":20200228T200000
DTSTAMP:20260422T211548
CREATED:20200228T054946Z
LAST-MODIFIED:20200228T054946Z
UID:4340-1582912800-1582920000@az.hgacademy.online
SUMMARY:Bu gün 18:00-20:00 Radio Anten 101 FM dinləyin
DESCRIPTION:İnsanların cəmiyyətdə davranış qaydalar və psixolojı əsasları barədə söhbət aparacayıq. \n
URL:https://az.hgacademy.online/event/bu-gun-18-00-20-00-radio-anten-101-fm-dinl-yin/
ATTACH;FMTTYPE=image/jpeg:https://az.hgacademy.online/wp-content/uploads/2020/02/2020_02_28_101_fm-radio-antenn_900_500.jpg
END:VEVENT
END:VCALENDAR