BEGIN:VCALENDAR
VERSION:2.0
PRODID:-//Həlimə Qəmərlinskaya - ECPv4.9.4//NONSGML v1.0//EN
CALSCALE:GREGORIAN
METHOD:PUBLISH
X-WR-CALNAME:Həlimə Qəmərlinskaya
X-ORIGINAL-URL:https://az.hgacademy.online
X-WR-CALDESC:Üçün tədbirlər Həlimə Qəmərlinskaya
BEGIN:VTIMEZONE
TZID:"Europe/Moscow"
BEGIN:STANDARD
TZOFFSETFROM:+0300
TZOFFSETTO:+0300
TZNAME:MSK
DTSTART:20200101T000000
END:STANDARD
END:VTIMEZONE
BEGIN:VEVENT
DTSTART;TZID="Europe/Moscow":20200327T160000
DTEND;TZID="Europe/Moscow":20200327T170000
DTSTAMP:20260422T210653
CREATED:20200326T192353Z
LAST-MODIFIED:20200326T192858Z
UID:4410-1585324800-1585328400@az.hgacademy.online
SUMMARY:“Biznesdə stresin idarə olunması”
DESCRIPTION:Hörmətli Sahibkar! \nBütün dünyada olduğu kimi\, ölkəmizdə də mövcud xəstəliyin yayılmasının qarşısını almaq məqsədilə tətbiq olunan xüsusi iş rejimində istənilən iqtisadiyyat sahəsində\, eləcə də əhalinin sosial təcrid olunması şəraitində fəaliyyət göstərməyimizə kömək məqsədi ilə Sizi\, 27.03.2020 tarixində saat 16:00-dan 17:00-kimi “Biznesdə stresin idarə olunması” mövzusunda biznes-konsultant Həlimə Qəmərlinskayanın moderatorluğu ilə Azərbaycan Sahibkarlar Konfederasiyasının Facebook platforması üzərindən canlı yayıma dəvət edirik.\nCanlı yayımda iştirak etmək üçün Azərbaycan Sahibkarlar Konfederasiyasının facebook səhifəsini izləməyiniz xahiş olunur. \n#ask #sahibkarlar \n\n
URL:https://az.hgacademy.online/event/biznesd-stresin-idar-olunmasi/
ATTACH;FMTTYPE=image/jpeg:https://az.hgacademy.online/wp-content/uploads/2020/03/2020_03_27_webinar_for_business_900_500.jpg
END:VEVENT
END:VCALENDAR