BEGIN:VCALENDAR
VERSION:2.0
PRODID:-//Həlimə Qəmərlinskaya - ECPv4.9.4//NONSGML v1.0//EN
CALSCALE:GREGORIAN
METHOD:PUBLISH
X-WR-CALNAME:Həlimə Qəmərlinskaya
X-ORIGINAL-URL:https://az.hgacademy.online
X-WR-CALDESC:Üçün tədbirlər Həlimə Qəmərlinskaya
BEGIN:VTIMEZONE
TZID:"Europe/Moscow"
BEGIN:STANDARD
TZOFFSETFROM:+0300
TZOFFSETTO:+0300
TZNAME:MSK
DTSTART:20220101T000000
END:STANDARD
END:VTIMEZONE
BEGIN:VEVENT
DTSTART;TZID="Europe/Moscow":20220601T080000
DTEND;TZID="Europe/Moscow":20220602T170000
DTSTAMP:20260422T113743
CREATED:20220520T150509Z
LAST-MODIFIED:20220520T150517Z
UID:5729-1654070400-1654189200@az.hgacademy.online
SUMMARY:Beynəlxalq Tibbi Hüquq Konfransı
DESCRIPTION:Sizə 2022-ci il 1/2 iyun tarixlərində  İNJURİA-nın və AMEA-nın Hüquq və İnsan Haqları İnstitutunun birgə təşkilatçılığı ilə keçiriləcək Beynəlxalq Tibb Hüququ Konfransının görkəmli spikerlərini  təqdim edirik. Azərbaycanda çoxsaylı uğurlara imza atmış həkim\, psixiatr Həlimə Qəmərlinskaya bizə öz dəyərli təcrübələrindən çıxış edərək ‘’İnsanların və vətəndaşların qanuni maraqlarının qorunması və qanunların reallaşdırılması kontekstində tibb hüququ: Ev şəraitində şiddətin psixoloji təsirləri və fəsadları’’ mövzusunda yeni  məlumatlar vermək üçün konfransımızda spiker kimi iştirak edəcək. Siz də daim inkişaf edən Tibb Hüququnda dünya tendensiyaları ilə bağlı  təcrübəli hüquqşünasların\, həkimlərin mövqeyi ilə maraqlanırsınızsa\, sizi qeydiyyatdan keçməyə dəvət edirik. Qeydiyyat davam edir. \nQeydiyyat linki -> \n\n
URL:https://az.hgacademy.online/event/beyn-lxalq-tibbi-huquq-konfransi/
ATTACH;FMTTYPE=image/jpeg:https://az.hgacademy.online/wp-content/uploads/2022/05/konferenciya-med-prava-00.jpg
END:VEVENT
END:VCALENDAR