BEGIN:VCALENDAR
VERSION:2.0
PRODID:-//Həlimə Qəmərlinskaya - ECPv4.9.4//NONSGML v1.0//EN
CALSCALE:GREGORIAN
METHOD:PUBLISH
X-WR-CALNAME:Həlimə Qəmərlinskaya
X-ORIGINAL-URL:https://az.hgacademy.online
X-WR-CALDESC:Üçün tədbirlər Həlimə Qəmərlinskaya
BEGIN:VTIMEZONE
TZID:"Europe/Moscow"
BEGIN:STANDARD
TZOFFSETFROM:+0300
TZOFFSETTO:+0300
TZNAME:MSK
DTSTART:20210101T000000
END:STANDARD
END:VTIMEZONE
BEGIN:VEVENT
DTSTART;TZID="Europe/Moscow":20210415T103000
DTEND;TZID="Europe/Moscow":20210415T120000
DTSTAMP:20260422T161911
CREATED:20210417T120045Z
LAST-MODIFIED:20210417T120101Z
UID:5226-1618482600-1618488000@az.hgacademy.online
SUMMARY:AzTv: ”Pozitiv düşümmək sənəti”
DESCRIPTION:15.04.2021 10:30-12:00\n#doctorhalima #coach #mentalhealth #positivethinking #energy #antistress #coaching \n\n
URL:https://az.hgacademy.online/event/aztv-pozitiv-dusumm-k-s-n-ti/
ATTACH;FMTTYPE=image/jpeg:https://az.hgacademy.online/wp-content/uploads/2021/04/2021_04_15_aztv_pozitive_900_500.jpg
END:VEVENT
END:VCALENDAR