BEGIN:VCALENDAR
VERSION:2.0
PRODID:-//Həlimə Qəmərlinskaya - ECPv4.9.4//NONSGML v1.0//EN
CALSCALE:GREGORIAN
METHOD:PUBLISH
X-WR-CALNAME:Həlimə Qəmərlinskaya
X-ORIGINAL-URL:https://az.hgacademy.online
X-WR-CALDESC:Üçün tədbirlər Həlimə Qəmərlinskaya
BEGIN:VTIMEZONE
TZID:"Europe/Moscow"
BEGIN:STANDARD
TZOFFSETFROM:+0300
TZOFFSETTO:+0300
TZNAME:MSK
DTSTART:20210101T000000
END:STANDARD
END:VTIMEZONE
BEGIN:VEVENT
DTSTART;TZID="Europe/Moscow":20210519T100000
DTEND;TZID="Europe/Moscow":20210519T113000
DTSTAMP:20260422T160954
CREATED:20210518T211142Z
LAST-MODIFIED:20210518T211142Z
UID:5342-1621418400-1621423800@az.hgacademy.online
SUMMARY:AzTV: “Gün başladı”
DESCRIPTION:Sabah 10:15-dən 11:30-dək AZTV kanalında yayımlanan “Gün başladı” verilişində qonaq olacağam.\nProqramda yeniyetmələrin ixtisas seçimi\, gələcək həyata hazırlıqlı olmaları haqqında müzakirələr edəcəyik. Həmçinin\, pandemiya zamanı yeniyetmələrin kompyuter oyunlarına marağının artmasının mənfi və müsbət cəhətləri haqqında danışacağıq.\nƏziz valideynlər\, suallarınıza cavab tapmaq üçün bizi izləməyi unutmayın.\n#drhalima #mentalhealth #teenagerpsychology #motivation #psychology #psychologytoday #aztv #günbaşladı \n\n
URL:https://az.hgacademy.online/event/aztv-gun-basladi/
ATTACH;FMTTYPE=image/jpeg:https://az.hgacademy.online/wp-content/uploads/2021/05/2021_05_19_aztv_den_nachalsya_900_500.jpg
END:VEVENT
END:VCALENDAR