BEGIN:VCALENDAR
VERSION:2.0
PRODID:-//Həlimə Qəmərlinskaya - ECPv4.9.4//NONSGML v1.0//EN
CALSCALE:GREGORIAN
METHOD:PUBLISH
X-WR-CALNAME:Həlimə Qəmərlinskaya
X-ORIGINAL-URL:https://az.hgacademy.online
X-WR-CALDESC:Üçün tədbirlər Həlimə Qəmərlinskaya
BEGIN:VTIMEZONE
TZID:"Europe/Moscow"
BEGIN:STANDARD
TZOFFSETFROM:+0300
TZOFFSETTO:+0300
TZNAME:MSK
DTSTART:20190101T000000
END:STANDARD
END:VTIMEZONE
BEGIN:VEVENT
DTSTART;VALUE=DATE:20191209
DTEND;VALUE=DATE:20191210
DTSTAMP:20260422T224304
CREATED:20191125T120319Z
LAST-MODIFIED:20191125T120427Z
UID:4115-1575849600-1575935999@az.hgacademy.online
SUMMARY:“Azercell” şirkətinin əməkdaşları üçün “Stresin idarə edilməsi” təlimi.
DESCRIPTION:
URL:https://az.hgacademy.online/event/azercell-sirk-tinin-m-kdaslari-ucun-stresin-idar-edilm-si-t-limi/
ATTACH;FMTTYPE=image/jpeg:https://az.hgacademy.online/wp-content/uploads/2019/11/azercell_2019_12_09_tmb.jpg
END:VEVENT
END:VCALENDAR