BEGIN:VCALENDAR
VERSION:2.0
PRODID:-//Həlimə Qəmərlinskaya - ECPv4.9.4//NONSGML v1.0//EN
CALSCALE:GREGORIAN
METHOD:PUBLISH
X-WR-CALNAME:Həlimə Qəmərlinskaya
X-ORIGINAL-URL:https://az.hgacademy.online
X-WR-CALDESC:Üçün tədbirlər Həlimə Qəmərlinskaya
BEGIN:VTIMEZONE
TZID:"Europe/Moscow"
BEGIN:STANDARD
TZOFFSETFROM:+0300
TZOFFSETTO:+0300
TZNAME:MSK
DTSTART:20200101T000000
END:STANDARD
END:VTIMEZONE
BEGIN:VEVENT
DTSTART;VALUE=DATE:20200401
DTEND;VALUE=DATE:20200402
DTSTAMP:20260422T194033
CREATED:20200401T210308Z
LAST-MODIFIED:20200401T210308Z
UID:4445-1585699200-1585785599@az.hgacademy.online
SUMMARY:Azercell-in əməkdaşları üçün "pozitiv düşüncənin inkişafı" vebinarı
DESCRIPTION:\n
URL:https://az.hgacademy.online/event/azercell-in-m-kdaslari-ucun-pozitiv-dusunc-nin-inkisafi-vebinari/
ATTACH;FMTTYPE=image/jpeg:https://az.hgacademy.online/wp-content/uploads/2020/04/2020_04_01_azercell_900_500.jpg
END:VEVENT
END:VCALENDAR