BEGIN:VCALENDAR
VERSION:2.0
PRODID:-//Həlimə Qəmərlinskaya - ECPv4.9.4//NONSGML v1.0//EN
CALSCALE:GREGORIAN
METHOD:PUBLISH
X-WR-CALNAME:Həlimə Qəmərlinskaya
X-ORIGINAL-URL:https://az.hgacademy.online
X-WR-CALDESC:Üçün tədbirlər Həlimə Qəmərlinskaya
BEGIN:VTIMEZONE
TZID:"Europe/Moscow"
BEGIN:STANDARD
TZOFFSETFROM:+0300
TZOFFSETTO:+0300
TZNAME:MSK
DTSTART:20200101T000000
END:STANDARD
END:VTIMEZONE
BEGIN:VEVENT
DTSTART;TZID="Europe/Moscow":20200406T080000
DTEND;TZID="Europe/Moscow":20200406T170000
DTSTAMP:20260422T210030
CREATED:20200406T183739Z
LAST-MODIFIED:20200406T183832Z
UID:4538-1586160000-1586192400@az.hgacademy.online
SUMMARY:Azercell-in əməkdaşları üçün “pozitiv düşüncənin inkişafı” vebinarı
DESCRIPTION:.fusion-gallery-1 .fusion-gallery-image {border:0px solid #f6f6f6;}\n
URL:https://az.hgacademy.online/event/azercell-in-m-kdaslari-ucun-pozitiv-dusunc-nin-inkisafi-vebinari-3/
ATTACH;FMTTYPE=image/jpeg:https://az.hgacademy.online/wp-content/uploads/2020/04/2020_04_06_azercell_webinar_013_900_500.jpg
END:VEVENT
END:VCALENDAR