BEGIN:VCALENDAR
VERSION:2.0
PRODID:-//Həlimə Qəmərlinskaya - ECPv4.9.4//NONSGML v1.0//EN
CALSCALE:GREGORIAN
METHOD:PUBLISH
X-WR-CALNAME:Həlimə Qəmərlinskaya
X-ORIGINAL-URL:https://az.hgacademy.online
X-WR-CALDESC:Üçün tədbirlər Həlimə Qəmərlinskaya
BEGIN:VTIMEZONE
TZID:"Europe/Moscow"
BEGIN:STANDARD
TZOFFSETFROM:+0300
TZOFFSETTO:+0300
TZNAME:MSK
DTSTART:20210101T000000
END:STANDARD
END:VTIMEZONE
BEGIN:VEVENT
DTSTART;TZID="Europe/Moscow":20211209T190000
DTEND;TZID="Europe/Moscow":20211209T190000
DTSTAMP:20260422T144100
CREATED:20211207T182213Z
LAST-MODIFIED:20211211T182612Z
UID:5565-1639076400-1639076400@az.hgacademy.online
SUMMARY:“Azərbaycanda psixoloji kömək almağı normalaşdırmaq”
DESCRIPTION:Dəyərli dostlar\,\nThe CopingCentre sosial məsuliyyət proyektinin 9 dekabr 19:00 da təşkil edəcəyi vebinar haqda məlumat vermek istəyirdik.\nKonfransda Həkim-Psixiatr Həlimə Qəmərlinskaya “Azərbaycanda psixoloji kömək almağı normalaşdırmaq” mövzusunda çıxış edəcək.\nQeydiyyatdan keçmək üçün tələsin!\n‼️Qeydiyyat üçün son tarix: 8.12.2021 23:59\nLink —> https://forms.gle/8GNXPBGddWY8JwEN7\nDostlar\, həmin zaman instaqram və fb-dan canlı yayım edəcəm!\n#doctorhalima #webinar #psychology \n\n
URL:https://az.hgacademy.online/event/az-rbaycanda-psixoloji-kom-k-almagi-normalasdirmaq/
ATTACH;FMTTYPE=image/jpeg:https://az.hgacademy.online/wp-content/uploads/2021/12/2021_12_09_webinar_900_500.jpg
END:VEVENT
END:VCALENDAR