BEGIN:VCALENDAR
VERSION:2.0
PRODID:-//Həlimə Qəmərlinskaya - ECPv4.9.4//NONSGML v1.0//EN
CALSCALE:GREGORIAN
METHOD:PUBLISH
X-WR-CALNAME:Həlimə Qəmərlinskaya
X-ORIGINAL-URL:https://az.hgacademy.online
X-WR-CALDESC:Üçün tədbirlər Həlimə Qəmərlinskaya
BEGIN:VTIMEZONE
TZID:"Europe/Moscow"
BEGIN:STANDARD
TZOFFSETFROM:+0300
TZOFFSETTO:+0300
TZNAME:MSK
DTSTART:20210101T000000
END:STANDARD
END:VTIMEZONE
BEGIN:VEVENT
DTSTART;TZID="Europe/Moscow":20210422T080000
DTEND;TZID="Europe/Moscow":20210422T110000
DTSTAMP:20260422T160912
CREATED:20210420T210359Z
LAST-MODIFIED:20210421T210500Z
UID:5234-1619078400-1619089200@az.hgacademy.online
SUMMARY:ATV Səhər
DESCRIPTION:Dostlar\, səhər 8:00-da ATV kanalında “ATV Səhər” verlişində maraqlı mövzu ətrafında aparıcı Nigar xanımla söhbət aparacayıq. \n#doctorhalima #psychiatry #coach #mentalhealth #atvseher #atv \n  \n\n
URL:https://az.hgacademy.online/event/atv-s-h-r/
ATTACH;FMTTYPE=image/jpeg:https://az.hgacademy.online/wp-content/uploads/2021/04/2021_04_22_atv_peredacha_900_500.jpg
END:VEVENT
END:VCALENDAR