BEGIN:VCALENDAR
VERSION:2.0
PRODID:-//Həlimə Qəmərlinskaya - ECPv4.9.4//NONSGML v1.0//EN
CALSCALE:GREGORIAN
METHOD:PUBLISH
X-WR-CALNAME:Həlimə Qəmərlinskaya
X-ORIGINAL-URL:https://az.hgacademy.online
X-WR-CALDESC:Üçün tədbirlər Həlimə Qəmərlinskaya
BEGIN:VTIMEZONE
TZID:"Europe/Moscow"
BEGIN:STANDARD
TZOFFSETFROM:+0300
TZOFFSETTO:+0300
TZNAME:MSK
DTSTART:20200101T000000
END:STANDARD
END:VTIMEZONE
BEGIN:VEVENT
DTSTART;TZID="Europe/Moscow":20200506T153000
DTEND;TZID="Europe/Moscow":20200506T163000
DTSTAMP:20260422T191800
CREATED:20200506T103828Z
LAST-MODIFIED:20200506T103828Z
UID:4784-1588779000-1588782600@az.hgacademy.online
SUMMARY:"ATV Qərargah"
DESCRIPTION:✅Bir daha ATV kanalının qonağı olduğum üçün çox məmnunam.\n❗Bu gün “ATV Qərargah” verilişində iştirak edəcəm.\n⁉️Aparıcı Yaqut xanımın bütün suallarına böyük məmnuniyyətlə cavab verəcəm.\n➡️Son onlayn bağlantı zamanı söhbətimiz başa çatmadı.\n🆕Ümid edirəm bu gün kifayət qədər vaxtımız olacaq.\n‼️Siz də qoşulun\, əziz dostlarım! \n🔊Mövzu: “Indiki dövrdə valideyn və uşaq arasında münasibətlər” \n\n
URL:https://az.hgacademy.online/event/atv-q-rargah/
ATTACH;FMTTYPE=image/jpeg:https://az.hgacademy.online/wp-content/uploads/2020/05/2020_05_06_az_tv_afisha_900_500.jpg
END:VEVENT
END:VCALENDAR