BEGIN:VCALENDAR
VERSION:2.0
PRODID:-//Həlimə Qəmərlinskaya - ECPv4.9.4//NONSGML v1.0//EN
CALSCALE:GREGORIAN
METHOD:PUBLISH
X-WR-CALNAME:Həlimə Qəmərlinskaya
X-ORIGINAL-URL:https://az.hgacademy.online
X-WR-CALDESC:Üçün tədbirlər Həlimə Qəmərlinskaya
BEGIN:VTIMEZONE
TZID:"Europe/Moscow"
BEGIN:STANDARD
TZOFFSETFROM:+0300
TZOFFSETTO:+0300
TZNAME:MSK
DTSTART:20200101T000000
END:STANDARD
END:VTIMEZONE
BEGIN:VEVENT
DTSTART;TZID="Europe/Moscow":20200630T091500
DTEND;TZID="Europe/Moscow":20200630T120000
DTSTAMP:20260422T174856
CREATED:20200629T061509Z
LAST-MODIFIED:20200701T061704Z
UID:4932-1593508500-1593518400@az.hgacademy.online
SUMMARY:ATV
DESCRIPTION:30 iyun\, saat 9:15-də @atv.seher verlişində 🔝maraqlı mövzunu müzakirə edəcəyik.\n👍Qoşulun\, dostlar. \n\n
URL:https://az.hgacademy.online/event/atv-2/
ATTACH;FMTTYPE=image/jpeg:https://az.hgacademy.online/wp-content/uploads/2020/07/2020_06_30_atv_900_500.jpg
END:VEVENT
END:VCALENDAR