BEGIN:VCALENDAR
VERSION:2.0
PRODID:-//Həlimə Qəmərlinskaya - ECPv4.9.4//NONSGML v1.0//EN
CALSCALE:GREGORIAN
METHOD:PUBLISH
X-WR-CALNAME:Həlimə Qəmərlinskaya
X-ORIGINAL-URL:https://az.hgacademy.online
X-WR-CALDESC:Üçün tədbirlər Həlimə Qəmərlinskaya
BEGIN:VTIMEZONE
TZID:"Europe/Moscow"
BEGIN:STANDARD
TZOFFSETFROM:+0300
TZOFFSETTO:+0300
TZNAME:MSK
DTSTART:20210101T000000
END:STANDARD
END:VTIMEZONE
BEGIN:VEVENT
DTSTART;TZID="Europe/Moscow":20211116T093000
DTEND;TZID="Europe/Moscow":20211116T110000
DTSTAMP:20260422T145115
CREATED:20211115T200021Z
LAST-MODIFIED:20211115T213621Z
UID:5489-1637055000-1637060400@az.hgacademy.online
SUMMARY:ATIB: "Pandemiya dövründə stresə müqavimətin artırılmasınım zəruriyyəti"
DESCRIPTION:Sabah 16 noyabr\, 09:30 ATİB İşgüzar Qadınlar Klubu tərəfindən təşkil olunmuş tədbirdə\n“Pandemiya dövründə stresə müqavimətin artırılmasınım zəruriyyəti” mövzusunda spiker qismində çıxış edəcəm.\n#ATIB #doctorhalima #anticovid #covid19 #stress #coach #pandemic\nATIB-Azerbaycan Türkiye İş Adamları Birliyi \n\n
URL:https://az.hgacademy.online/event/atib-pandemiya-dovrund-stres-muqavim-tin-artirilmasinim-z-ruriyy-ti/
ATTACH;FMTTYPE=image/jpeg:https://az.hgacademy.online/wp-content/uploads/2021/11/2021_11_16_atib_900_500.jpg
END:VEVENT
END:VCALENDAR